BEGIN:VCALENDAR
VERSION:2.0
PRODID:-//Triathlon Newfoundland - ECPv4.9.12//NONSGML v1.0//EN
CALSCALE:GREGORIAN
METHOD:PUBLISH
X-WR-CALNAME:Triathlon Newfoundland
X-ORIGINAL-URL:https://www.trinl.com
X-WR-CALDESC:Events for Triathlon Newfoundland
BEGIN:VTIMEZONE
TZID:America/St_Johns
BEGIN:DAYLIGHT
TZOFFSETFROM:-0330
TZOFFSETTO:-0230
TZNAME:NDT
DTSTART:20260308T053000
END:DAYLIGHT
BEGIN:STANDARD
TZOFFSETFROM:-0230
TZOFFSETTO:-0330
TZNAME:NST
DTSTART:20261101T043000
END:STANDARD
END:VTIMEZONE
BEGIN:VEVENT
DTSTART;TZID=America/St_Johns:20260502T080000
DTEND;TZID=America/St_Johns:20260503T150000
DTSTAMP:20260424T203125
CREATED:20260323T165937Z
LAST-MODIFIED:20260323T165937Z
UID:9872-1777708800-1777820400@www.trinl.com
SUMMARY:Coaching Course - Triathlon Adult Community Coach
DESCRIPTION:Triathlon NL is hosting a Triathlon Adult Community Coach course on May 2 & 3 in St. John’s. This course is a major component for certification as a coach within Triathlon Canada. \nThe course is open to anyone interested. Activities will include learning and practicing drills for swimming (at the Aquarena)\, cycling\, running\, and transition. Our instructor is Shannon Read\, a triathlon learning facilitator working out of Nova Scotia. \nThis course was last offered locally in 2019\, so make sure you don’t miss this opportunity to complete this important training. 
URL:https://www.trinl.com/event/coaching-course-triathlon-adult-community-coach/
LOCATION:MUN Pool & Field House\, 17 Westerland Road\, St. John's\, NL\, A1B 3R7\, Canada
ORGANIZER;CN="Triathlon%20NL":MAILTO:admin@trinl.com
END:VEVENT
END:VCALENDAR