BEGIN:VCALENDAR
VERSION:2.0
PRODID:-//Triathlon Newfoundland - ECPv4.9.12//NONSGML v1.0//EN
CALSCALE:GREGORIAN
METHOD:PUBLISH
X-WR-CALNAME:Triathlon Newfoundland
X-ORIGINAL-URL:https://www.trinl.com
X-WR-CALDESC:Events for Triathlon Newfoundland
BEGIN:VTIMEZONE
TZID:America/St_Johns
BEGIN:DAYLIGHT
TZOFFSETFROM:-0330
TZOFFSETTO:-0230
TZNAME:NDT
DTSTART:20250309T053000
END:DAYLIGHT
BEGIN:STANDARD
TZOFFSETFROM:-0230
TZOFFSETTO:-0330
TZNAME:NST
DTSTART:20251102T043000
END:STANDARD
END:VTIMEZONE
BEGIN:VEVENT
DTSTART;TZID=America/St_Johns:20250630T183000
DTEND;TZID=America/St_Johns:20250630T200000
DTSTAMP:20260423T165033
CREATED:20230608T143813Z
LAST-MODIFIED:20230608T143813Z
UID:9613-1751308200-1751313600@www.trinl.com
SUMMARY:Monday Night Bike Rides
DESCRIPTION:\n\n\nThe rides depart from Sunshine Park at 6:30 PM and are weather dependent. Check our Facebook page to ensure the ride is going ahead each Monday.\nVarious routes are planned over the course of the series. There will be a sweeper cyclist to ensure all participants are accounted for at the finish. Distances will range from 20 – 25 kms.\nYou must be a current TriathlonNL Annual Member to participate.\nAll abilities are welcome but you must have a roadworthy bicycle of any type and a helmet.\n\n\n
URL:https://www.trinl.com/event/monday-night-bike-rides/2025-06-30/
LOCATION:Rotary Sunshine Park\, Bennett's Road\, St. John's\, Newfoundland and Labrador\, Canada
ORGANIZER;CN="Triathlon%20NL":MAILTO:admin@trinl.com
GEO:47.5760453999999981533619575202465057373046875;-52.841333800000001019725459627807140350341796875
X-APPLE-STRUCTURED-LOCATION;VALUE=URI;X-ADDRESS=Rotary Sunshine Park Bennett's Road St. John's Newfoundland and Labrador Canada;X-APPLE-RADIUS=500;X-TITLE=Bennett's Road:geo:-52.841333800000001019725459627807140350341796875,47.5760453999999981533619575202465057373046875
END:VEVENT
END:VCALENDAR