BEGIN:VCALENDAR
VERSION:2.0
PRODID:-//Triathlon Newfoundland - ECPv4.9.12//NONSGML v1.0//EN
CALSCALE:GREGORIAN
METHOD:PUBLISH
X-WR-CALNAME:Triathlon Newfoundland
X-ORIGINAL-URL:https://www.trinl.com
X-WR-CALDESC:Events for Triathlon Newfoundland
BEGIN:VTIMEZONE
TZID:America/St_Johns
BEGIN:DAYLIGHT
TZOFFSETFROM:-0330
TZOFFSETTO:-0230
TZNAME:NDT
DTSTART:20260308T053000
END:DAYLIGHT
BEGIN:STANDARD
TZOFFSETFROM:-0230
TZOFFSETTO:-0330
TZNAME:NST
DTSTART:20261101T043000
END:STANDARD
END:VTIMEZONE
BEGIN:VEVENT
DTSTART;TZID=America/St_Johns:20260728T180000
DTEND;TZID=America/St_Johns:20260728T190000
DTSTAMP:20260425T013046
CREATED:20250606T180624Z
LAST-MODIFIED:20260313T153752Z
UID:9815-1785261600-1785265200@www.trinl.com
SUMMARY:TrainForTRI Open Water Swim Series
DESCRIPTION:OWS is back for another season and registration will open soon.\n\nLocation: Sunshine Park – Healey’s Pond\n\n\n\nThe event options are broken down within age categories and distances.  Sign up for a safe\, fun and challenging 6 week series!!! Each week there will be snacks\, prizes and more!!! \n\n\nDivision Date / Times \n\n\nJuly 7th to August 11th\, 2026 \n\n\nJunior Masters: age 14* – 45 (750m) – Tuesdays @ 6:30pm \n\n\nJunior Masters: age 14* – 45 (1500m) – Tuesdays @ 6:40pm \n\n\nElite Juniors: age => 14* – <= 17* (Participants 100 meter pace time is 1:32 or faster per 100m) 1500m – Tuesdays @ 6:05pm \n\n\nElite Masters: age >18 (Participants 100 meter pace time is 1:32 or faster per 100m) 1500m – Tuesdays @ 6:00pm \n\n\nSenior Masters: age >46 – 100 (750m) – Tuesdays @ 6:30pm \n\n\nSenior Masters: age >46 – 100 (1500m) – Tuesdays @ 6:40pm \n\n\n* Ages 14 – 17: Experience required and Parent consent to participate \nSee you soon at Sunshine Park Healey’s Pond…Stay Safe! \n\n
URL:https://www.trinl.com/event/trainfortri-open-water-swim-series/2026-07-28/
LOCATION:Rotary Sunshine Park\, Bennett's Road\, St. John's\, Newfoundland and Labrador\, Canada
ORGANIZER;CN="TrainForTri":MAILTO:jeff.trainfortri@gmail.com
GEO:47.5760453999999981533619575202465057373046875;-52.841333800000001019725459627807140350341796875
X-APPLE-STRUCTURED-LOCATION;VALUE=URI;X-ADDRESS=Rotary Sunshine Park Bennett's Road St. John's Newfoundland and Labrador Canada;X-APPLE-RADIUS=500;X-TITLE=Bennett's Road:geo:-52.841333800000001019725459627807140350341796875,47.5760453999999981533619575202465057373046875
END:VEVENT
END:VCALENDAR